BEGIN:VCALENDAR
VERSION:2.0
PRODID:spatie/icalendar-generator
DESCRIPTION:Events from Energis 8 Brasil
X-WR-CALDESC:Events from Energis 8 Brasil
REFRESH-INTERVAL;VALUE=DURATION:PT1440M
X-PUBLISHED-TTL:PT1440M
BEGIN:VTIMEZONE
TZID:America/Sao_Paulo
BEGIN:STANDARD
DTSTART:20240611T000000Z
TZOFFSETFROM:-0300
TZOFFSETTO:-0300
END:STANDARD
END:VTIMEZONE
BEGIN:VTIMEZONE
TZID:UTC
BEGIN:STANDARD
DTSTART:20250726T115252Z
TZOFFSETFROM:+0000
TZOFFSETTO:+0000
END:STANDARD
END:VTIMEZONE
BEGIN:VEVENT
UID:16-15
DTSTAMP:20260422T115252Z
SUMMARY:Dia da Mulher
LOCATION:
ORGANIZER;CN=Suporte Energis 8:MAILTO:suporte@energis8brasil.com
DTSTART;TZID=America/Sao_Paulo;VALUE=DATE:20250308
DTEND;TZID=America/Sao_Paulo;VALUE=DATE:20250309
X-ALT-DESC;FMTTYPE=TEXT/HTML:8 de março: Dia Internacional da Mulher \"O D
 ia Internacional da Mulher é uma data comemorativa que foi oficializada p
 ela Organização das Nações Unidas na década de 1970. Essa data simbol
 iza a luta histórica das mulheres para terem suas condições equiparadas
  às dos homens. Inicialmente\, essa data remetia à reivindicação por i
 gualdade salarial\, mas\, atualmente\,&amp;hellip\;
CATEGORIES:Geral
URL;VALUE=URI:https://www.energis8brasil.com/en/mc-events/dia-da-mulher/?mc
 _id=16
END:VEVENT
END:VCALENDAR