BEGIN:VCALENDAR
VERSION:2.0
PRODID:spatie/icalendar-generator
DESCRIPTION:Events from Energis 8 Brasil
X-WR-CALDESC:Events from Energis 8 Brasil
REFRESH-INTERVAL;VALUE=DURATION:PT1440M
X-PUBLISHED-TTL:PT1440M
BEGIN:VTIMEZONE
TZID:America/Sao_Paulo
BEGIN:STANDARD
DTSTART:20240801T000000Z
TZOFFSETFROM:-0300
TZOFFSETTO:-0300
END:STANDARD
END:VTIMEZONE
BEGIN:VTIMEZONE
TZID:UTC
BEGIN:STANDARD
DTSTART:20250726T083756Z
TZOFFSETFROM:+0000
TZOFFSETTO:+0000
END:STANDARD
END:VTIMEZONE
BEGIN:VEVENT
UID:20-18
DTSTAMP:20260422T083756Z
SUMMARY:ANIVERSÁRIO ENERGIS8
LOCATION:
ORGANIZER;CN=Suporte Energis 8:MAILTO:suporte@energis8brasil.com
DTSTART;TZID=America/Sao_Paulo;VALUE=DATE:20250428
DTEND;TZID=America/Sao_Paulo;VALUE=DATE:20250429
X-ALT-DESC;FMTTYPE=TEXT/HTML:Experiente no mercado\, a Energis 8 Agroquím
 ica iniciou sua atividades para suprir a necessidade do mercado de um dis
 tribuidor especializado no setor de óleos lubrificantes automotivos e ind
 ustriais. Desde a sua fundação a empresa tem buscado interagir e se inte
 grar a outras redes produtivas dos setores de derivados de petróleo e esp
 ecialidades químicas\, para atingir o fortalecimento&amp;hellip\;
CATEGORIES:Geral
URL;VALUE=URI:https://www.energis8brasil.com/en/mc-events/aniversario-energ
 is8/?mc_id=20
END:VEVENT
END:VCALENDAR