BEGIN:VCALENDAR
VERSION:2.0
PRODID:spatie/icalendar-generator
DESCRIPTION:Events from Energis 8 Brasil
X-WR-CALDESC:Events from Energis 8 Brasil
REFRESH-INTERVAL;VALUE=DURATION:PT1440M
X-PUBLISHED-TTL:PT1440M
BEGIN:VTIMEZONE
TZID:America/Sao_Paulo
BEGIN:STANDARD
DTSTART:20240922T000000Z
TZOFFSETFROM:-0300
TZOFFSETTO:-0300
END:STANDARD
END:VTIMEZONE
BEGIN:VTIMEZONE
TZID:UTC
BEGIN:STANDARD
DTSTART:20250726T070457Z
TZOFFSETFROM:+0000
TZOFFSETTO:+0000
END:STANDARD
END:VTIMEZONE
BEGIN:VEVENT
UID:21-19
DTSTAMP:20260422T070457Z
SUMMARY:CORPUS CHRISTI
LOCATION:
ORGANIZER;CN=Suporte Energis 8:MAILTO:suporte@energis8brasil.com
DTSTART;TZID=America/Sao_Paulo;VALUE=DATE:20250619
DTEND;TZID=America/Sao_Paulo;VALUE=DATE:20250620
X-ALT-DESC;FMTTYPE=TEXT/HTML:O feriado de Corpus Christi é móvel\, cele
 brado sempre 60 dias após a Páscoa. Neste ano\, cai no dia 19 de junho. 
 A data simboliza a presença de Cristo na Eucaristia\, que lembra a morte 
 e ressurreição de Jesus. É o único dia do ano em que o Santíssimo Sac
 ramento sai em procissão pelas ruas. Esta reportagem&amp;hellip\;
CATEGORIES:Geral
URL;VALUE=URI:https://www.energis8brasil.com/en/mc-events/corpus-christi/?m
 c_id=21
END:VEVENT
END:VCALENDAR