BEGIN:VCALENDAR
VERSION:2.0
PRODID:spatie/icalendar-generator
DESCRIPTION:Events from Energis 8 Brasil
X-WR-CALDESC:Events from Energis 8 Brasil
REFRESH-INTERVAL;VALUE=DURATION:PT1440M
X-PUBLISHED-TTL:PT1440M
BEGIN:VTIMEZONE
TZID:America/Sao_Paulo
BEGIN:STANDARD
DTSTART:20241012T000000Z
TZOFFSETFROM:-0300
TZOFFSETTO:-0300
END:STANDARD
END:VTIMEZONE
BEGIN:VTIMEZONE
TZID:UTC
BEGIN:STANDARD
DTSTART:20250726T052820Z
TZOFFSETFROM:+0000
TZOFFSETTO:+0000
END:STANDARD
END:VTIMEZONE
BEGIN:VEVENT
UID:22-20
DTSTAMP:20260422T052820Z
SUMMARY:Revolução Constit.
LOCATION:
ORGANIZER;CN=Suporte Energis 8:MAILTO:suporte@energis8brasil.com
DTSTART;TZID=America/Sao_Paulo;VALUE=DATE:20250709
DTEND;TZID=America/Sao_Paulo;VALUE=DATE:20250710
X-ALT-DESC;FMTTYPE=TEXT/HTML:REVOLUÇÃO CONSTITUCIONALISTA ! A Lei Federal
  n. 9.093\, de 12 de setembro de 1995\, sancionada pelo Presidente Fernand
 o Henrique Cardoso\, que dispõe sobre feriados\, determina que a data mag
 na do Estado\, fixada em lei estadual\, feriado civil. Assim sendo\, no Es
 tado de São Paulo\, o então Deputado Guilherme Gianetti apresentou o Pr
 ojeto de Lei n. 710/1995\,&amp;hellip\;
CATEGORIES:Geral
URL;VALUE=URI:https://www.energis8brasil.com/en/mc-events/revolucao-constit
 /?mc_id=22
END:VEVENT
END:VCALENDAR