BEGIN:VCALENDAR
VERSION:2.0
PRODID:spatie/icalendar-generator
DESCRIPTION:Events from Energis 8 Brasil
X-WR-CALDESC:Events from Energis 8 Brasil
REFRESH-INTERVAL;VALUE=DURATION:PT1440M
X-PUBLISHED-TTL:PT1440M
BEGIN:VTIMEZONE
TZID:America/Sao_Paulo
BEGIN:STANDARD
DTSTART:20250205T000000Z
TZOFFSETFROM:-0300
TZOFFSETTO:-0300
END:STANDARD
END:VTIMEZONE
BEGIN:VTIMEZONE
TZID:UTC
BEGIN:STANDARD
DTSTART:20250725T225044Z
TZOFFSETFROM:+0000
TZOFFSETTO:+0000
END:STANDARD
END:VTIMEZONE
BEGIN:VEVENT
UID:26-23
DTSTAMP:20260421T225044Z
SUMMARY:FINADOS
LOCATION:
ORGANIZER;CN=Suporte Energis 8:MAILTO:suporte@energis8brasil.com
DTSTART;TZID=America/Sao_Paulo;VALUE=DATE:20251102
DTEND;TZID=America/Sao_Paulo;VALUE=DATE:20251103
X-ALT-DESC;FMTTYPE=TEXT/HTML:DIA DE FINADOS - Celebrado anualmente no dia 2
  de novembro\, o Dia de Finados é um evento que virou tradicional na Igre
 ja Católica. A celebração de Finados é uma data reservada à oração 
 pela alma dos mortos. Para os católicos\, deve-se rezar\, principalmente\
 , pelas almas que estão do purgatório\, considerado uma condição de pu
 rificação&amp;hellip\;
CATEGORIES:Geral
URL;VALUE=URI:https://www.energis8brasil.com/en/mc-events/finados-2/?mc_id=
 26
END:VEVENT
END:VCALENDAR