BEGIN:VCALENDAR
VERSION:2.0
PRODID:spatie/icalendar-generator
DESCRIPTION:Events from Energis 8 Brasil
X-WR-CALDESC:Events from Energis 8 Brasil
REFRESH-INTERVAL;VALUE=DURATION:PT1440M
X-PUBLISHED-TTL:PT1440M
BEGIN:VTIMEZONE
TZID:America/Sao_Paulo
BEGIN:STANDARD
DTSTART:20250313T000000Z
TZOFFSETFROM:-0300
TZOFFSETTO:-0300
END:STANDARD
END:VTIMEZONE
BEGIN:VTIMEZONE
TZID:UTC
BEGIN:STANDARD
DTSTART:20250725T114344Z
TZOFFSETFROM:+0000
TZOFFSETTO:+0000
END:STANDARD
END:VTIMEZONE
BEGIN:VEVENT
UID:32-28
DTSTAMP:20260421T114344Z
SUMMARY:ANIVERSÁRIO MAUÁ
LOCATION:
ORGANIZER;CN=Suporte Energis 8:MAILTO:suporte@energis8brasil.com
DTSTART;TZID=America/Sao_Paulo;VALUE=DATE:20251208
DTEND;TZID=America/Sao_Paulo;VALUE=DATE:20251209
X-ALT-DESC;FMTTYPE=TEXT/HTML:8 de Dezembro - Aniversário de Mauá Formaç
 ão da cidade: O dia 18 de outubro de 1934 é a data da formação adminis
 trativa com a criação do Distrito de Mauá\, pertencente\, até então\,
  a São Bernardo. Em 30 de novembro de 1938\, o distrito foi transferido p
 ara Santo André\, em virtude de sua emancipação. Por&amp;hellip\;
CATEGORIES:Geral
URL;VALUE=URI:https://www.energis8brasil.com/en/mc-events/aniversario-maua/
 ?mc_id=32
END:VEVENT
END:VCALENDAR