BEGIN:VCALENDAR
VERSION:2.0
PRODID:spatie/icalendar-generator
DESCRIPTION:Events from Energis 8 Brasil
X-WR-CALDESC:Events from Energis 8 Brasil
REFRESH-INTERVAL;VALUE=DURATION:PT1440M
X-PUBLISHED-TTL:PT1440M
BEGIN:VTIMEZONE
TZID:America/Sao_Paulo
BEGIN:STANDARD
DTSTART:20250611T000000Z
TZOFFSETFROM:-0300
TZOFFSETTO:-0300
END:STANDARD
END:VTIMEZONE
BEGIN:VTIMEZONE
TZID:UTC
BEGIN:STANDARD
DTSTART:20250725T161932Z
TZOFFSETFROM:+0000
TZOFFSETTO:+0000
END:STANDARD
END:VTIMEZONE
BEGIN:VEVENT
UID:42-37
DTSTAMP:20260421T161932Z
SUMMARY:DIA DA MULHER
LOCATION:
ORGANIZER;CN=Suporte Energis 8:MAILTO:suporte@energis8brasil.com
DTSTART;TZID=America/Sao_Paulo;VALUE=DATE:20260308
DTEND;TZID=America/Sao_Paulo;VALUE=DATE:20260309
X-ALT-DESC;FMTTYPE=TEXT/HTML:8 de Março: Dia Internacional da Mulher É ce
 lebrado em 08 de março o Dia Internacional da Mulher\, data que acabou se
 ndo símbolo das conquistas que as mulheres efetivaram no século XX. O D
 ia Internacional da Mulher é uma data comemorativa que foi oficializada 
 pela Organização das Nações Unidas na década de 1970. Essa data sim
 boliza a luta histórica das&amp;hellip\;
CATEGORIES:Geral
URL;VALUE=URI:https://www.energis8brasil.com/en/mc-events/dia-da-mulher-2/?
 mc_id=42
END:VEVENT
END:VCALENDAR