BEGIN:VCALENDAR
VERSION:2.0
PRODID:spatie/icalendar-generator
DESCRIPTION:Events from Energis 8 Brasil
X-WR-CALDESC:Events from Energis 8 Brasil
REFRESH-INTERVAL;VALUE=DURATION:PT1440M
X-PUBLISHED-TTL:PT1440M
BEGIN:VTIMEZONE
TZID:America/Sao_Paulo
BEGIN:STANDARD
DTSTART:20250707T000000Z
TZOFFSETFROM:-0300
TZOFFSETTO:-0300
END:STANDARD
END:VTIMEZONE
BEGIN:VTIMEZONE
TZID:UTC
BEGIN:STANDARD
DTSTART:20250725T142007Z
TZOFFSETFROM:+0000
TZOFFSETTO:+0000
END:STANDARD
END:VTIMEZONE
BEGIN:VEVENT
UID:44-39
DTSTAMP:20260421T142007Z
SUMMARY:SEXTA-FEIRA SANTA
LOCATION:
ORGANIZER;CN=Suporte Energis 8:MAILTO:suporte@energis8brasil.com
DTSTART;TZID=America/Sao_Paulo:20260403T000000
DTEND;TZID=America/Sao_Paulo:20260403T010000
X-ALT-DESC;FMTTYPE=TEXT/HTML:A Sexta-feira Santa é a sexta-feira que ocorr
 e antes do domingo de Páscoa. Neste dia\, os cristãos relembram o dia em
  que Jesus Cristo morreu crucificado. Também é chamada de Sexta Feira da
  Paixão\, porque com origem do latim\, paixão significa sofrimento. Assi
 m\, para os cristãos\, a paixão de Cristo representa a crucificação de
  Jesus&amp;hellip\;
CATEGORIES:Geral
URL;VALUE=URI:https://www.energis8brasil.com/en/mc-events/sexta-feira-santa
 -2/?mc_id=44
END:VEVENT
END:VCALENDAR