BEGIN:VCALENDAR
VERSION:2.0
PRODID:spatie/icalendar-generator
DESCRIPTION:Events from Energis 8 Brasil
X-WR-CALDESC:Events from Energis 8 Brasil
REFRESH-INTERVAL;VALUE=DURATION:PT1440M
X-PUBLISHED-TTL:PT1440M
BEGIN:VTIMEZONE
TZID:America/Sao_Paulo
BEGIN:STANDARD
DTSTART:20250725T000000Z
TZOFFSETFROM:-0300
TZOFFSETTO:-0300
END:STANDARD
END:VTIMEZONE
BEGIN:VTIMEZONE
TZID:UTC
BEGIN:STANDARD
DTSTART:20250725T142007Z
TZOFFSETFROM:+0000
TZOFFSETTO:+0000
END:STANDARD
END:VTIMEZONE
BEGIN:VEVENT
UID:45-40
DTSTAMP:20260421T142007Z
SUMMARY:TIRADENTES
LOCATION:
ORGANIZER;CN=Suporte Energis 8:MAILTO:suporte@energis8brasil.com
DTSTART;TZID=America/Sao_Paulo:20260421T000000
DTEND;TZID=America/Sao_Paulo:20260421T010000
X-ALT-DESC;FMTTYPE=TEXT/HTML:O Dia de Tiradentes é comemorado em 21 de 
 abril\, e é considerado um feriado nacional no Brasil. Esta data homenag
 eia a figura do herói nacional Joaquim José da Silva Xavier\, popularm
 ente conhecido por “Tiradentes” (referência ao seu ofício de dentist
 a). O feriado 21 de abril é importante porque Tiradentes\, que foi morto 
 nessa data em 1792\, é considerado um brasileiro&amp;hellip\;
CATEGORIES:Geral
URL;VALUE=URI:https://www.energis8brasil.com/en/mc-events/tiradentes/?mc_id
 =45
END:VEVENT
END:VCALENDAR