BEGIN:VCALENDAR
VERSION:2.0
PRODID:spatie/icalendar-generator
DESCRIPTION:Events from Energis 8 Brasil
X-WR-CALDESC:Events from Energis 8 Brasil
REFRESH-INTERVAL;VALUE=DURATION:PT1440M
X-PUBLISHED-TTL:PT1440M
BEGIN:VTIMEZONE
TZID:America/Sao_Paulo
BEGIN:STANDARD
DTSTART:20231215T000000Z
TZOFFSETFROM:-0300
TZOFFSETTO:-0300
END:STANDARD
END:VTIMEZONE
BEGIN:VTIMEZONE
TZID:UTC
BEGIN:STANDARD
DTSTART:20250726T221943Z
TZOFFSETFROM:+0000
TZOFFSETTO:+0000
END:STANDARD
END:VTIMEZONE
BEGIN:VEVENT
UID:5-5
DTSTAMP:20260422T221943Z
SUMMARY:Dia Mundial de Prevenção ao Suicídio
LOCATION:
ORGANIZER;CN=Suporte Energis 8:MAILTO:suporte@energis8brasil.com
DTSTART;TZID=America/Sao_Paulo;VALUE=DATE:20240910
DTEND;TZID=America/Sao_Paulo;VALUE=DATE:20240911
X-ALT-DESC;FMTTYPE=TEXT/HTML:O dia 10 deste mês é\, oficialmente\, o Dia
  Mundial de Prevenção ao Suicídio\, mas a iniciativa acontece durante t
 odo o ano. Atualmente\, o Setembro Amarelo é a maior campanha ante estigm
 a do mundo! Em 2024\, o lema é “Se precisar\, peça ajuda!” e diversa
 s ações já estão sendo desenvolvidas. Saiba mais em: https://www.setem
 broamarelo.com/ &amp;nbsp\;
CATEGORIES:Geral
URL;VALUE=URI:https://www.energis8brasil.com/en/mc-events/dia-mundial-de-pr
 evencao-ao-suicidio/?mc_id=5
END:VEVENT
END:VCALENDAR