BEGIN:VCALENDAR
VERSION:2.0
PRODID:spatie/icalendar-generator
DESCRIPTION:Events from Energis 8 Brasil
X-WR-CALDESC:Events from Energis 8 Brasil
REFRESH-INTERVAL;VALUE=DURATION:PT1440M
X-PUBLISHED-TTL:PT1440M
BEGIN:VTIMEZONE
TZID:America/Sao_Paulo
BEGIN:STANDARD
DTSTART:20231227T000000Z
TZOFFSETFROM:-0300
TZOFFSETTO:-0300
END:STANDARD
END:VTIMEZONE
BEGIN:VTIMEZONE
TZID:UTC
BEGIN:STANDARD
DTSTART:20250726T221301Z
TZOFFSETFROM:+0000
TZOFFSETTO:+0000
END:STANDARD
END:VTIMEZONE
BEGIN:VEVENT
UID:7-6
DTSTAMP:20260422T221301Z
SUMMARY:Primavera
LOCATION:
ORGANIZER;CN=Suporte Energis 8:MAILTO:suporte@energis8brasil.com
DTSTART;TZID=America/Sao_Paulo;VALUE=DATE:20240922
DTEND;TZID=America/Sao_Paulo;VALUE=DATE:20240923
X-ALT-DESC;FMTTYPE=TEXT/HTML:A primavera é a estação do ano que se segue
  o inverno e precede o verão e é tipicamente associada ao refloresciment
 o da flora terrestre. No mês de setembro\, mas especificamente na data  
 22 de setembro de 2024 comemoramos a chegada da primavera no hemisfério s
 ul – a estação mais linda do ano – aos&amp;hellip\;
CATEGORIES:Geral
URL;VALUE=URI:https://www.energis8brasil.com/en/mc-events/primavera/?mc_id=
 7
END:VEVENT
END:VCALENDAR