BEGIN:VCALENDAR
VERSION:2.0
PRODID:spatie/icalendar-generator
DESCRIPTION:Events from Energis 8 Brasil
X-WR-CALDESC:Events from Energis 8 Brasil
REFRESH-INTERVAL;VALUE=DURATION:PT1440M
X-PUBLISHED-TTL:PT1440M
BEGIN:VTIMEZONE
TZID:America/Sao_Paulo
BEGIN:STANDARD
DTSTART:20231115T000000Z
TZOFFSETFROM:-0300
TZOFFSETTO:-0300
END:STANDARD
END:VTIMEZONE
BEGIN:VTIMEZONE
TZID:UTC
BEGIN:STANDARD
DTSTART:20250727T025637Z
TZOFFSETFROM:+0000
TZOFFSETTO:+0000
END:STANDARD
END:VTIMEZONE
BEGIN:VEVENT
UID:3-3
DTSTAMP:20260423T025637Z
SUMMARY:DIA DOS PAIS
LOCATION:
ORGANIZER;CN=Suporte Energis 8:MAILTO:suporte@energis8brasil.com
DTSTART;TZID=America/Sao_Paulo;VALUE=DATE:20240811
DTEND;TZID=America/Sao_Paulo;VALUE=DATE:20240812
X-ALT-DESC;FMTTYPE=TEXT/HTML:Dia do Pai ou Dia dos Pais é uma data comemor
 ativa que homenageia anualmente os pais.
CATEGORIES:Geral
URL;VALUE=URI:https://www.energis8brasil.com/en/mc-events/dia-dos-pais/?mc_
 id=3
END:VEVENT
END:VCALENDAR