BEGIN:VCALENDAR
VERSION:2.0
PRODID:spatie/icalendar-generator
DESCRIPTION:Events from Energis 8 Brasil
X-WR-CALDESC:Events from Energis 8 Brasil
REFRESH-INTERVAL;VALUE=DURATION:PT1440M
X-PUBLISHED-TTL:PT1440M
BEGIN:VTIMEZONE
TZID:America/Sao_Paulo
BEGIN:STANDARD
DTSTART:20250405T000000Z
TZOFFSETFROM:-0300
TZOFFSETTO:-0300
END:STANDARD
END:VTIMEZONE
BEGIN:VTIMEZONE
TZID:UTC
BEGIN:STANDARD
DTSTART:20250725T221400Z
TZOFFSETFROM:+0000
TZOFFSETTO:+0000
END:STANDARD
END:VTIMEZONE
BEGIN:VEVENT
UID:36-31
DTSTAMP:20260421T221400Z
SUMMARY:VÉSPERA DE ANO NOVO
LOCATION:
ORGANIZER;CN=Suporte Energis 8:MAILTO:suporte@energis8brasil.com
DTSTART;TZID=America/Sao_Paulo:20251231T000000
DTEND;TZID=America/Sao_Paulo:20251231T010000
X-ALT-DESC;FMTTYPE=TEXT/HTML:31 de Dezembro: Véspera de Ano-Novo (Ponto Fa
 cultativo após as 13h) A véspera de Ano Novo é no dia 31 de dezembro\
 , data que antecede a Confraternização Universal\, o Ano Novo. O signifi
 cado da celebração que dá as boas-vindas ao novo ano reflete o desejo d
 e união entre os povos. A véspera de Ano Novo não é&amp;hellip\;
CATEGORIES:Geral
URL;VALUE=URI:https://www.energis8brasil.com/en/mc-events/vespera-de-ano-no
 vo/?mc_id=36
END:VEVENT
END:VCALENDAR