BEGIN:VCALENDAR
VERSION:2.0
PRODID:spatie/icalendar-generator
DESCRIPTION:Events from Energis 8 Brasil
X-WR-CALDESC:Events from Energis 8 Brasil
REFRESH-INTERVAL;VALUE=DURATION:PT1440M
X-PUBLISHED-TTL:PT1440M
BEGIN:VTIMEZONE
TZID:America/Sao_Paulo
BEGIN:STANDARD
DTSTART:20250406T000000Z
TZOFFSETFROM:-0300
TZOFFSETTO:-0300
END:STANDARD
END:VTIMEZONE
BEGIN:VTIMEZONE
TZID:UTC
BEGIN:STANDARD
DTSTART:20250725T205851Z
TZOFFSETFROM:+0000
TZOFFSETTO:+0000
END:STANDARD
END:VTIMEZONE
BEGIN:VEVENT
UID:38-33
DTSTAMP:20260421T205851Z
SUMMARY:ANO NOVO
LOCATION:
ORGANIZER;CN=Suporte Energis 8:MAILTO:suporte@energis8brasil.com
DTSTART;TZID=America/Sao_Paulo:20260101T000000
DTEND;TZID=America/Sao_Paulo:20260101T010000
X-ALT-DESC;FMTTYPE=TEXT/HTML:Dia da Confraternização Universal (1º de ja
 neiro): A Confraternização Universal ou Dia da Confraternização Univer
 sal é comemorado no dia 1º de janeiro de cada ano e é um feriado cívic
 o. O significado da celebração que dá as boas-vindas ao novo ano reflet
 e o desejo de união entre os povos. Origem do Dia da Confraternização U
 niversal&amp;hellip\;
CATEGORIES:Geral
URL;VALUE=URI:https://www.energis8brasil.com/en/mc-events/ano-novo-2/?mc_id
 =38
END:VEVENT
END:VCALENDAR