BEGIN:VCALENDAR
VERSION:2.0
PRODID:spatie/icalendar-generator
DESCRIPTION:Events from Energis 8 Brasil
X-WR-CALDESC:Events from Energis 8 Brasil
REFRESH-INTERVAL;VALUE=DURATION:PT1440M
X-PUBLISHED-TTL:PT1440M
BEGIN:VTIMEZONE
TZID:America/Sao_Paulo
BEGIN:STANDARD
DTSTART:20250430T000000Z
TZOFFSETFROM:-0300
TZOFFSETTO:-0300
END:STANDARD
END:VTIMEZONE
BEGIN:VTIMEZONE
TZID:UTC
BEGIN:STANDARD
DTSTART:20250725T211113Z
TZOFFSETFROM:+0000
TZOFFSETTO:+0000
END:STANDARD
END:VTIMEZONE
BEGIN:VEVENT
UID:39-34
DTSTAMP:20260421T211113Z
SUMMARY:ANIVERSÁRIO DE SP
LOCATION:
ORGANIZER;CN=Suporte Energis 8:MAILTO:suporte@energis8brasil.com
DTSTART;TZID=America/Sao_Paulo;VALUE=DATE:20260125
DTEND;TZID=America/Sao_Paulo;VALUE=DATE:20260126
X-ALT-DESC;FMTTYPE=TEXT/HTML:O Aniversário de São Paulo é comemorado e
 m 25 de janeiro. Em 2026\, a cidade completa 472 anos. Esta data é um F
 eriado Municipal\, ou seja\, é feriado apenas na cidade de São Paulo\, e
  não em todo estado. O dia 25 de Janeiro foi escolhido em homenagem à fu
 ndação do Colégio dos Jesuítas. Foi nesse local onde teve&amp;hellip\;
CATEGORIES:Geral
URL;VALUE=URI:https://www.energis8brasil.com/en/mc-events/aniversario-de-sp
 /?mc_id=39
END:VEVENT
END:VCALENDAR