BEGIN:VCALENDAR
VERSION:2.0
PRODID:spatie/icalendar-generator
DESCRIPTION:Events from Energis 8 Brasil
X-WR-CALDESC:Events from Energis 8 Brasil
REFRESH-INTERVAL;VALUE=DURATION:PT1440M
X-PUBLISHED-TTL:PT1440M
BEGIN:VTIMEZONE
TZID:America/Sao_Paulo
BEGIN:STANDARD
DTSTART:20250523T000000Z
TZOFFSETFROM:-0300
TZOFFSETTO:-0300
END:STANDARD
END:VTIMEZONE
BEGIN:VTIMEZONE
TZID:UTC
BEGIN:STANDARD
DTSTART:20250725T192654Z
TZOFFSETFROM:+0000
TZOFFSETTO:+0000
END:STANDARD
END:VTIMEZONE
BEGIN:VEVENT
UID:40-35
DTSTAMP:20260421T192654Z
SUMMARY:CARNAVAL
LOCATION:
ORGANIZER;CN=Suporte Energis 8:MAILTO:suporte@energis8brasil.com
DTSTART;TZID=America/Sao_Paulo;VALUE=DATE:20260217
DTEND;TZID=America/Sao_Paulo;VALUE=DATE:20260218
X-ALT-DESC;FMTTYPE=TEXT/HTML:O Carnaval 2026 cai no dia 17 de fevereiro 
 (terça-feira). O dia de Carnaval é uma celebração de data móvel\, obr
 igatoriamente comemorada numa terça-feira\, e ocorre sempre 47 dias antes
  da Páscoa. Saiba mais em: https://pt.wikipedia.org/wiki/Carnaval &amp;nbsp\;
CATEGORIES:Geral
URL;VALUE=URI:https://www.energis8brasil.com/en/mc-events/carnaval/?mc_id=4
 0
END:VEVENT
END:VCALENDAR