BEGIN:VCALENDAR
VERSION:2.0
PRODID:spatie/icalendar-generator
DESCRIPTION:Events from Energis 8 Brasil
X-WR-CALDESC:Events from Energis 8 Brasil
REFRESH-INTERVAL;VALUE=DURATION:PT1440M
X-PUBLISHED-TTL:PT1440M
BEGIN:VTIMEZONE
TZID:America/Sao_Paulo
BEGIN:STANDARD
DTSTART:20250524T000000Z
TZOFFSETFROM:-0300
TZOFFSETTO:-0300
END:STANDARD
END:VTIMEZONE
BEGIN:VTIMEZONE
TZID:UTC
BEGIN:STANDARD
DTSTART:20250725T204655Z
TZOFFSETFROM:+0000
TZOFFSETTO:+0000
END:STANDARD
END:VTIMEZONE
BEGIN:VEVENT
UID:41-36
DTSTAMP:20260421T204655Z
SUMMARY:QUARTA DE CINZAS
LOCATION:
ORGANIZER;CN=Suporte Energis 8:MAILTO:suporte@energis8brasil.com
DTSTART;TZID=America/Sao_Paulo:20260218T000000
DTEND;TZID=America/Sao_Paulo:20260218T140000
X-ALT-DESC;FMTTYPE=TEXT/HTML:\"Quarta-feira de Cinzas\" marca o início da 
 Quaresma (período de 40 dias antes da Páscoa) para cristãos\, simboliza
 ndo penitência e renovação espiritual com a imposição de cinzas na te
 sta\, que lembra a mortalidade e a necessidade de conversão a Deus\, send
 o um dia de jejum e abstinência\, com funcionamento do comércio e servi
 ços geralmente mais&amp;hellip\;
CATEGORIES:Geral
URL;VALUE=URI:https://www.energis8brasil.com/en/mc-events/quarta-de-cinzas/
 ?mc_id=41
END:VEVENT
END:VCALENDAR