BEGIN:VCALENDAR
VERSION:2.0
PRODID:spatie/icalendar-generator
DESCRIPTION:Events from Energis 8 Brasil
X-WR-CALDESC:Events from Energis 8 Brasil
REFRESH-INTERVAL;VALUE=DURATION:PT1440M
X-PUBLISHED-TTL:PT1440M
BEGIN:VTIMEZONE
TZID:America/Sao_Paulo
BEGIN:STANDARD
DTSTART:20240123T000000Z
TZOFFSETFROM:-0300
TZOFFSETTO:-0300
END:STANDARD
END:VTIMEZONE
BEGIN:VTIMEZONE
TZID:UTC
BEGIN:STANDARD
DTSTART:20250726T215754Z
TZOFFSETFROM:+0000
TZOFFSETTO:+0000
END:STANDARD
END:VTIMEZONE
BEGIN:VEVENT
UID:9-8
DTSTAMP:20260422T215754Z
SUMMARY:Dia do Profissional de TI
LOCATION:
ORGANIZER;CN=Suporte Energis 8:MAILTO:suporte@energis8brasil.com
DTSTART;TZID=America/Sao_Paulo;VALUE=DATE:20241019
DTEND;TZID=America/Sao_Paulo;VALUE=DATE:20241020
X-ALT-DESC;FMTTYPE=TEXT/HTML:Dia 19 de Outubro\, data comemorativa aos prof
 issionais que trabalha diariamente para manter a internet\, os sistemas e 
 todo aparato tecnológico funcionando! A data é para homenagear quem atua
  no setor de tecnologia\, mantém as pessoas conectadas e os departamentos
  funcionando de forma segura e produtiva.
CATEGORIES:Geral
URL;VALUE=URI:https://www.energis8brasil.com/en/mc-events/dia-do-profission
 al-de-ti/?mc_id=9
END:VEVENT
END:VCALENDAR