BEGIN:VCALENDAR
VERSION:2.0
PRODID:spatie/icalendar-generator
DESCRIPTION:Events from Energis 8 Brasil
X-WR-CALDESC:Events from Energis 8 Brasil
REFRESH-INTERVAL;VALUE=DURATION:PT1440M
X-PUBLISHED-TTL:PT1440M
BEGIN:VTIMEZONE
TZID:America/Sao_Paulo
BEGIN:STANDARD
DTSTART:20240406T000000Z
TZOFFSETFROM:-0300
TZOFFSETTO:-0300
END:STANDARD
END:VTIMEZONE
BEGIN:VTIMEZONE
TZID:UTC
BEGIN:STANDARD
DTSTART:20250726T165719Z
TZOFFSETFROM:+0000
TZOFFSETTO:+0000
END:STANDARD
END:VTIMEZONE
BEGIN:VEVENT
UID:13-12
DTSTAMP:20260422T165719Z
SUMMARY:ANO NOVO
LOCATION:
ORGANIZER;CN=Suporte Energis 8:MAILTO:suporte@energis8brasil.com
DTSTART;TZID=America/Sao_Paulo:20250101T000000
DTEND;TZID=America/Sao_Paulo:20250101T010000
X-ALT-DESC;FMTTYPE=TEXT/HTML:Ano Novo ou ano-novo\, conhecido ainda como 
 ano-bom\, é o momento em que um novo ano civil começa e um novo calend
 ário anual é iniciado. Em muitas culturas ao redor do mundo\, o evento 
 é comemorado de alguma maneira\, principalmente na véspera da data. É u
 m dos maiores festivais do mundo\, principalmente no mundo ocidental e tam
 bém é celebrado&amp;hellip\;
CATEGORIES:Geral
URL;VALUE=URI:https://www.energis8brasil.com/mc-events/ano-novo/?mc_id=13
END:VEVENT
END:VCALENDAR