BEGIN:VCALENDAR
VERSION:2.0
PRODID:spatie/icalendar-generator
DESCRIPTION:Events from Energis 8 Brasil
X-WR-CALDESC:Events from Energis 8 Brasil
REFRESH-INTERVAL;VALUE=DURATION:PT1440M
X-PUBLISHED-TTL:PT1440M
BEGIN:VTIMEZONE
TZID:America/Sao_Paulo
BEGIN:STANDARD
DTSTART:20231013T000000Z
TZOFFSETFROM:-0300
TZOFFSETTO:-0300
END:STANDARD
END:VTIMEZONE
BEGIN:VTIMEZONE
TZID:UTC
BEGIN:STANDARD
DTSTART:20250727T025113Z
TZOFFSETFROM:+0000
TZOFFSETTO:+0000
END:STANDARD
END:VTIMEZONE
BEGIN:VEVENT
UID:2-2
DTSTAMP:20260423T025113Z
SUMMARY:Feriado 9 de Julho.
LOCATION:
ORGANIZER;CN=Suporte Energis 8:MAILTO:suporte@energis8brasil.com
DTSTART;TZID=America/Sao_Paulo:20240709T000000
DTEND;TZID=America/Sao_Paulo:20240709T235900
X-ALT-DESC;FMTTYPE=TEXT/HTML:Data celebra a Revolução Constitucionalista 
 de 1932\, movimento armado que teve liderança de tropas paulistas\, e é 
 feriado apenas no estado de São Paulo.
CATEGORIES:Geral
URL;VALUE=URI:https://www.energis8brasil.com/mc-events/feriado-9-de-julho/?
 mc_id=2
END:VEVENT
END:VCALENDAR