BEGIN:VCALENDAR
VERSION:2.0
PRODID:spatie/icalendar-generator
DESCRIPTION:Events from Energis 8 Brasil
X-WR-CALDESC:Events from Energis 8 Brasil
REFRESH-INTERVAL;VALUE=DURATION:PT1440M
X-PUBLISHED-TTL:PT1440M
BEGIN:VTIMEZONE
TZID:America/Sao_Paulo
BEGIN:STANDARD
DTSTART:20241113T000000Z
TZOFFSETFROM:-0300
TZOFFSETTO:-0300
END:STANDARD
END:VTIMEZONE
BEGIN:VTIMEZONE
TZID:UTC
BEGIN:STANDARD
DTSTART:20250726T020429Z
TZOFFSETFROM:+0000
TZOFFSETTO:+0000
END:STANDARD
END:VTIMEZONE
BEGIN:VEVENT
UID:23-21
DTSTAMP:20260422T020429Z
SUMMARY:Dia dos Pais
LOCATION:
ORGANIZER;CN=Suporte Energis 8:MAILTO:suporte@energis8brasil.com
DTSTART;TZID=America/Sao_Paulo;VALUE=DATE:20250810
DTEND;TZID=America/Sao_Paulo;VALUE=DATE:20250811
X-ALT-DESC;FMTTYPE=TEXT/HTML:O Dia do Pai (em Portugal e na Europa em
  geral) ou Dia dos Pais (no Brasil) é uma data comemorativa que home
 nageia anualmente os pais. A data varia de acordo com os países. Em Port
 ugal e na Espanha é celebrada no dia 19 de março\, enquanto no Bras
 il é celebrado no segundo domingo de agosto. Nos Estados Unidos e na 
 Inglaterra é celebrado no terceiro domingo de junho. Nos países ocident
 ais\, geralmente coincide com o dia&amp;hellip\;
CATEGORIES:Geral
URL;VALUE=URI:https://www.energis8brasil.com/mc-events/dia-dos-pais-2/?mc_i
 d=23
END:VEVENT
END:VCALENDAR