BEGIN:VCALENDAR
VERSION:2.0
PRODID:spatie/icalendar-generator
DESCRIPTION:Events from Energis 8 Brasil
X-WR-CALDESC:Events from Energis 8 Brasil
REFRESH-INTERVAL;VALUE=DURATION:PT1440M
X-PUBLISHED-TTL:PT1440M
BEGIN:VTIMEZONE
TZID:America/Sao_Paulo
BEGIN:STANDARD
DTSTART:20250223T000000Z
TZOFFSETFROM:-0300
TZOFFSETTO:-0300
END:STANDARD
END:VTIMEZONE
BEGIN:VTIMEZONE
TZID:UTC
BEGIN:STANDARD
DTSTART:20250725T211205Z
TZOFFSETFROM:+0000
TZOFFSETTO:+0000
END:STANDARD
END:VTIMEZONE
BEGIN:VEVENT
UID:30-27
DTSTAMP:20260421T211205Z
SUMMARY:CONSCIÊNC. NEGRA
LOCATION:
ORGANIZER;CN=Suporte Energis 8:MAILTO:suporte@energis8brasil.com
DTSTART;TZID=America/Sao_Paulo:20251120T000000
DTEND;TZID=America/Sao_Paulo:20251120T010000
X-ALT-DESC;FMTTYPE=TEXT/HTML:O Dia da Consciência Negra -  é comemorado 
 em 20 de novembro e\, a partir de 2024\, é feriado nacional. Consciênci
 a negra é o sentimento dos negros relativamente a sua história e a sua h
 erança cultura. É essa consciência que encoraja a luta negra contra a d
 iscriminação. O dia da consciência negra é comemorado no dia&amp;hellip\;
CATEGORIES:Geral
URL;VALUE=URI:https://www.energis8brasil.com/mc-events/conscienc-negra/?mc_
 id=30
END:VEVENT
END:VCALENDAR