BEGIN:VCALENDAR
VERSION:2.0
PRODID:spatie/icalendar-generator
DESCRIPTION:Events from Energis 8 Brasil
X-WR-CALDESC:Events from Energis 8 Brasil
REFRESH-INTERVAL;VALUE=DURATION:PT1440M
X-PUBLISHED-TTL:PT1440M
BEGIN:VTIMEZONE
TZID:America/Sao_Paulo
BEGIN:STANDARD
DTSTART:20250330T000000Z
TZOFFSETFROM:-0300
TZOFFSETTO:-0300
END:STANDARD
END:VTIMEZONE
BEGIN:VTIMEZONE
TZID:UTC
BEGIN:STANDARD
DTSTART:20250725T193032Z
TZOFFSETFROM:+0000
TZOFFSETTO:+0000
END:STANDARD
END:VTIMEZONE
BEGIN:VEVENT
UID:33-29
DTSTAMP:20260421T193032Z
SUMMARY:NATAL
LOCATION:
ORGANIZER;CN=Suporte Energis 8:MAILTO:suporte@energis8brasil.com
DTSTART;TZID=America/Sao_Paulo:20251225T000000
DTEND;TZID=America/Sao_Paulo:20251225T010000
X-ALT-DESC;FMTTYPE=TEXT/HTML:25 DE DEZEMBRO: O Natal é comemorado anualm
 ente em 25 de dezembro e é um feriado nacional no Brasil. Em 2025\, o Na
 tal será numa quinta-feira. Atualmente\, o Natal é celebrado em quase to
 dos os países do mundo. Independente da religião\, praticamente todas as
  pessoas celebram esta comemoração a sua maneira. As festividades dessa
  data comemorativa começam na véspera&amp;hellip\;
CATEGORIES:Geral
URL;VALUE=URI:https://www.energis8brasil.com/mc-events/natal/?mc_id=33
END:VEVENT
END:VCALENDAR