BEGIN:VCALENDAR
VERSION:2.0
PRODID:spatie/icalendar-generator
DESCRIPTION:Events from Energis 8 Brasil
X-WR-CALDESC:Events from Energis 8 Brasil
REFRESH-INTERVAL;VALUE=DURATION:PT1440M
X-PUBLISHED-TTL:PT1440M
BEGIN:VTIMEZONE
TZID:America/Sao_Paulo
BEGIN:STANDARD
DTSTART:20250709T000000Z
TZOFFSETFROM:-0300
TZOFFSETTO:-0300
END:STANDARD
END:VTIMEZONE
BEGIN:VTIMEZONE
TZID:UTC
BEGIN:STANDARD
DTSTART:20250725T130428Z
TZOFFSETFROM:+0000
TZOFFSETTO:+0000
END:STANDARD
END:VTIMEZONE
BEGIN:VEVENT
UID:43-38
DTSTAMP:20260421T130428Z
SUMMARY:PÁSCOA
LOCATION:
ORGANIZER;CN=Suporte Energis 8:MAILTO:suporte@energis8brasil.com
DTSTART;TZID=America/Sao_Paulo;VALUE=DATE:20260405
DTEND;TZID=America/Sao_Paulo;VALUE=DATE:20260406
X-ALT-DESC;FMTTYPE=TEXT/HTML:A Páscoa 2026 cai no dia 5 de abril (doming
 o). A Páscoa é uma celebração cristã comemorada anualmente num domin
 go\, conhecido como Domingo de Páscoa. É considerada uma das festas mai
 s importantes para os cristãos\, pois celebra a ressurreição de Jesus C
 risto\, que morreu com o intuito de libertar a humanidade do pecado. A Pá
 scoa marca o fim da&amp;hellip\;
CATEGORIES:Geral
URL;VALUE=URI:https://www.energis8brasil.com/mc-events/pascoa/?mc_id=43
END:VEVENT
END:VCALENDAR