BEGIN:VCALENDAR
VERSION:2.0
PRODID:spatie/icalendar-generator
DESCRIPTION:Events from Energis 8 Brasil
X-WR-CALDESC:Events from Energis 8 Brasil
REFRESH-INTERVAL;VALUE=DURATION:PT1440M
X-PUBLISHED-TTL:PT1440M
BEGIN:VTIMEZONE
TZID:America/Sao_Paulo
BEGIN:STANDARD
DTSTART:20240116T000000Z
TZOFFSETFROM:-0300
TZOFFSETTO:-0300
END:STANDARD
END:VTIMEZONE
BEGIN:VTIMEZONE
TZID:UTC
BEGIN:STANDARD
DTSTART:20250726T221458Z
TZOFFSETFROM:+0000
TZOFFSETTO:+0000
END:STANDARD
END:VTIMEZONE
BEGIN:VEVENT
UID:8-7
DTSTAMP:20260422T221458Z
SUMMARY:Dia das Crianças
LOCATION:
ORGANIZER;CN=Suporte Energis 8:MAILTO:suporte@energis8brasil.com
DTSTART;TZID=America/Sao_Paulo;VALUE=DATE:20241012
DTEND;TZID=America/Sao_Paulo;VALUE=DATE:20241013
X-ALT-DESC;FMTTYPE=TEXT/HTML:O Dia das Crianças ou Dia da Criança é uma 
 data comemorativa celebrada anualmente em homenagem às crianças\, cujo d
 ia efetivo varia de acordo com o país. Países como Angola\, Portugal e M
 oçambique adotaram o dia 1 de junho. No Brasil é celebrado em 12 de outu
 bro &amp;nbsp\; &amp;nbsp\;
CATEGORIES:Geral
URL;VALUE=URI:https://www.energis8brasil.com/mc-events/dia-das-criancas/?mc
 _id=8
END:VEVENT
END:VCALENDAR