BEGIN:VCALENDAR
VERSION:2.0
PRODID:spatie/icalendar-generator
DESCRIPTION:Events from Energis 8 Brasil
X-WR-CALDESC:Events from Energis 8 Brasil
REFRESH-INTERVAL;VALUE=DURATION:PT1440M
X-PUBLISHED-TTL:PT1440M
BEGIN:VTIMEZONE
TZID:America/Sao_Paulo
BEGIN:STANDARD
DTSTART:20240206T000000Z
TZOFFSETFROM:-0300
TZOFFSETTO:-0300
END:STANDARD
END:VTIMEZONE
BEGIN:VTIMEZONE
TZID:UTC
BEGIN:STANDARD
DTSTART:20250726T220721Z
TZOFFSETFROM:+0000
TZOFFSETTO:+0000
END:STANDARD
END:VTIMEZONE
BEGIN:VEVENT
UID:10-9
DTSTAMP:20260422T220721Z
SUMMARY:Finados
LOCATION:
ORGANIZER;CN=Suporte Energis 8:MAILTO:suporte@energis8brasil.com
DTSTART;TZID=America/Sao_Paulo;VALUE=DATE:20241102
DTEND;TZID=America/Sao_Paulo;VALUE=DATE:20241103
X-ALT-DESC;FMTTYPE=TEXT/HTML:O Dia de Finados é celebrado como feriado no 
 Brasil no dia 2 de novembro. Seu nome deriva de Dia dos Fiéis Defuntos e 
 provém dos religiosos católicos. Alguns papas e sacerdotes da Igreja Cat
 ólica obrigava a igreja a guardar um dia de oração para os mortos. No d
 ia de finados é comum as pessoas&amp;hellip\;
CATEGORIES:Geral
URL;VALUE=URI:https://www.energis8brasil.com/mc-events/finados/?mc_id=10
END:VEVENT
END:VCALENDAR