BEGIN:VCALENDAR
VERSION:2.0
PRODID:spatie/icalendar-generator
DESCRIPTION:Events from Energis 8 Brasil
X-WR-CALDESC:Events from Energis 8 Brasil
REFRESH-INTERVAL;VALUE=DURATION:PT1440M
X-PUBLISHED-TTL:PT1440M
BEGIN:VTIMEZONE
TZID:America/Sao_Paulo
BEGIN:STANDARD
DTSTART:20240219T000000Z
TZOFFSETFROM:-0300
TZOFFSETTO:-0300
END:STANDARD
END:VTIMEZONE
BEGIN:VTIMEZONE
TZID:UTC
BEGIN:STANDARD
DTSTART:20250726T220604Z
TZOFFSETFROM:+0000
TZOFFSETTO:+0000
END:STANDARD
END:VTIMEZONE
BEGIN:VEVENT
UID:11-10
DTSTAMP:20260422T220604Z
SUMMARY:Proclamação da República do Brasil.
LOCATION:
ORGANIZER;CN=Suporte Energis 8:MAILTO:suporte@energis8brasil.com
DTSTART;TZID=America/Sao_Paulo;VALUE=DATE:20241115
DTEND;TZID=America/Sao_Paulo;VALUE=DATE:20241116
X-ALT-DESC;FMTTYPE=TEXT/HTML:O Dia da Proclamação da República do Brasi
 l é comemorado anualmente dia 15 de novembro e é considerado um feriado
  nacional. O evento aconteceu no Rio de Janeiro\, então capital do Impér
 io do Brasil\, quando um grupo de militares do exército brasileiro\, lide
 rados pelo Marechal Manuel Deodoro da Fonseca\, instituiu um governo provi
 sório republicano. Com a Proclamação&amp;hellip\;
CATEGORIES:Geral
URL;VALUE=URI:https://www.energis8brasil.com/mc-events/proclamacao-da-repub
 lica-do-brasil/?mc_id=11
END:VEVENT
END:VCALENDAR