BEGIN:VCALENDAR
VERSION:2.0
PRODID:spatie/icalendar-generator
DESCRIPTION:Events from Energis 8 Brasil
X-WR-CALDESC:Events from Energis 8 Brasil
REFRESH-INTERVAL;VALUE=DURATION:PT1440M
X-PUBLISHED-TTL:PT1440M
BEGIN:VTIMEZONE
TZID:America/Sao_Paulo
BEGIN:STANDARD
DTSTART:20240722T000000Z
TZOFFSETFROM:-0300
TZOFFSETTO:-0300
END:STANDARD
END:VTIMEZONE
BEGIN:VTIMEZONE
TZID:UTC
BEGIN:STANDARD
DTSTART:20250726T101748Z
TZOFFSETFROM:+0000
TZOFFSETTO:+0000
END:STANDARD
END:VTIMEZONE
BEGIN:VEVENT
UID:17-16
DTSTAMP:20260422T101748Z
SUMMARY:SEXTA FEIRA SANTA
LOCATION:
ORGANIZER;CN=Suporte Energis 8:MAILTO:suporte@energis8brasil.com
DTSTART;TZID=America/Sao_Paulo:20250418T000000
DTEND;TZID=America/Sao_Paulo:20250418T235900
X-ALT-DESC;FMTTYPE=TEXT/HTML:Sexta-feira Santa ou Sexta-Feira da Paixão 
 ou Sexta-Feira Maior é uma data religiosa cristã que relembra a crucif
 icação de Jesus Cristo e sua morte no Calvário. O feriado é observ
 ado sempre na sexta-feira que antecede o Domingo de Páscoa\, o sexto d
 ia da Semana Santa no cristianismo ocidental e o sétimo no cristiani
 smo oriental (que conta também o Sábado de Lázaro\, anterior ao Domi
 ngo de Ramos). É o primeiro dia (que começa na noite&amp;hellip\;
CATEGORIES:Geral
URL;VALUE=URI:https://www.energis8brasil.com/mc-events/sexta-feira-santa/?m
 c_id=17
END:VEVENT
END:VCALENDAR