BEGIN:VCALENDAR
VERSION:2.0
PRODID:spatie/icalendar-generator
DESCRIPTION:Events from Energis 8 Brasil
X-WR-CALDESC:Events from Energis 8 Brasil
REFRESH-INTERVAL;VALUE=DURATION:PT1440M
X-PUBLISHED-TTL:PT1440M
BEGIN:VTIMEZONE
TZID:America/Sao_Paulo
BEGIN:STANDARD
DTSTART:20240725T000000Z
TZOFFSETFROM:-0300
TZOFFSETTO:-0300
END:STANDARD
END:VTIMEZONE
BEGIN:VTIMEZONE
TZID:UTC
BEGIN:STANDARD
DTSTART:20250726T104024Z
TZOFFSETFROM:+0000
TZOFFSETTO:+0000
END:STANDARD
END:VTIMEZONE
BEGIN:VEVENT
UID:19-17
DTSTAMP:20260422T104024Z
SUMMARY:DIA DE TIRADENTES
LOCATION:
ORGANIZER;CN=Suporte Energis 8:MAILTO:suporte@energis8brasil.com
DTSTART;TZID=America/Sao_Paulo:20250421T000000
DTEND;TZID=America/Sao_Paulo:20250421T000000
X-ALT-DESC;FMTTYPE=TEXT/HTML:O Dia da Inconfidência\, popularmente conhec
 ido como Dia de Tiradentes ou simplesmente Tiradentes\, é um dos feria
 dos nacionais brasileiros. É uma homenagem ao herói nacional brasileiro
  Joaquim José da Silva Xavier\, mártir da Inconfidência Mineira. É c
 elebrado no dia 21 de abril\, pois a execução de Tiradentes deu-se nest
 e dia\, no ano de 1792. O feriado foi criado no ano de 1965.
CATEGORIES:Geral
URL;VALUE=URI:https://www.energis8brasil.com/mc-events/dia-de-tiradentes/?m
 c_id=19
END:VEVENT
END:VCALENDAR