BEGIN:VCALENDAR
VERSION:2.0
PRODID:spatie/icalendar-generator
DESCRIPTION:Events from Energis 8 Brasil
X-WR-CALDESC:Events from Energis 8 Brasil
REFRESH-INTERVAL;VALUE=DURATION:PT1440M
X-PUBLISHED-TTL:PT1440M
BEGIN:VTIMEZONE
TZID:America/Sao_Paulo
BEGIN:STANDARD
DTSTART:20241211T000000Z
TZOFFSETFROM:-0300
TZOFFSETTO:-0300
END:STANDARD
END:VTIMEZONE
BEGIN:VTIMEZONE
TZID:UTC
BEGIN:STANDARD
DTSTART:20250726T014019Z
TZOFFSETFROM:+0000
TZOFFSETTO:+0000
END:STANDARD
END:VTIMEZONE
BEGIN:VEVENT
UID:25-22
DTSTAMP:20260422T014019Z
SUMMARY:INDEP. DO BRASIL
LOCATION:
ORGANIZER;CN=Suporte Energis 8:MAILTO:suporte@energis8brasil.com
DTSTART;TZID=America/Sao_Paulo:20250907T000000
DTEND;TZID=America/Sao_Paulo:20250907T010000
X-ALT-DESC;FMTTYPE=TEXT/HTML:Dia da Independência do Brasil O dia 7 de set
 embro é uma data comemorativa que relembra a declaração de independênc
 ia do Brasil\, realizada nesse mesmo dia em 1822. \"Sendo uma das datas co
 memorativas mais importantes do Brasil\, justamente por abrigar um dos pri
 ncipais acontecimentos da nossa história: a nossa independência. Foi nes
 se dia\, em 1822\,&amp;hellip\;
CATEGORIES:Geral
URL;VALUE=URI:https://www.energis8brasil.com/mc-events/indep-do-brasil/?mc_
 id=25
END:VEVENT
END:VCALENDAR