BEGIN:VCALENDAR
VERSION:2.0
PRODID:spatie/icalendar-generator
DESCRIPTION:Events from Energis 8 Brasil
X-WR-CALDESC:Events from Energis 8 Brasil
REFRESH-INTERVAL;VALUE=DURATION:PT1440M
X-PUBLISHED-TTL:PT1440M
BEGIN:VTIMEZONE
TZID:America/Sao_Paulo
BEGIN:STANDARD
DTSTART:20250218T000000Z
TZOFFSETFROM:-0300
TZOFFSETTO:-0300
END:STANDARD
END:VTIMEZONE
BEGIN:VTIMEZONE
TZID:UTC
BEGIN:STANDARD
DTSTART:20250725T224853Z
TZOFFSETFROM:+0000
TZOFFSETTO:+0000
END:STANDARD
END:VTIMEZONE
BEGIN:VEVENT
UID:29-26
DTSTAMP:20260421T224853Z
SUMMARY:PROCLAMA. DA REPÚB.
LOCATION:
ORGANIZER;CN=Suporte Energis 8:MAILTO:suporte@energis8brasil.com
DTSTART;TZID=America/Sao_Paulo:20251115T000000
DTEND;TZID=America/Sao_Paulo:20251115T010000
X-ALT-DESC;FMTTYPE=TEXT/HTML:O Dia da Proclamação da República do Brasi
 l - é comemorado anualmente em 15 de novembro e é feriado nacional. A
  data recorda o dia em que a república foi proclamada\, dando fim à Mona
 rquia no Brasil. A Proclamação da República do Brasil ocorreu no dia
  15 de novembro de 1889. O evento aconteceu no Rio de Janeiro\, a então
  capital do país\, e&amp;hellip\;
CATEGORIES:Geral
URL;VALUE=URI:https://www.energis8brasil.com/mc-events/proclama-da-repub/?m
 c_id=29
END:VEVENT
END:VCALENDAR