BEGIN:VCALENDAR
VERSION:2.0
PRODID:spatie/icalendar-generator
DESCRIPTION:Events from Energis 8 Brasil
X-WR-CALDESC:Events from Energis 8 Brasil
REFRESH-INTERVAL;VALUE=DURATION:PT1440M
X-PUBLISHED-TTL:PT1440M
BEGIN:VTIMEZONE
TZID:America/Sao_Paulo
BEGIN:STANDARD
DTSTART:20250329T000000Z
TZOFFSETFROM:-0300
TZOFFSETTO:-0300
END:STANDARD
END:VTIMEZONE
BEGIN:VTIMEZONE
TZID:UTC
BEGIN:STANDARD
DTSTART:20250725T211057Z
TZOFFSETFROM:+0000
TZOFFSETTO:+0000
END:STANDARD
END:VTIMEZONE
BEGIN:VEVENT
UID:34-30
DTSTAMP:20260421T211057Z
SUMMARY:VÉSPERA DE NATAL
LOCATION:
ORGANIZER;CN=Suporte Energis 8:MAILTO:suporte@energis8brasil.com
DTSTART;TZID=America/Sao_Paulo:20251224T000000
DTEND;TZID=America/Sao_Paulo:20251224T010000
X-ALT-DESC;FMTTYPE=TEXT/HTML:Véspera de Natal (Ponto Facultativo após as 
 13h): A véspera de Natal é no dia 24 de dezembro\, data que antecede 
 uma das festas mais celebradas do calendário cristão\, o Natal. A véspe
 ra de Natal não é feriado no Brasil. A Bíblia não diz em qual data J
 esus nasceu\, mas afirma que foi durante a noite. Por isso\, a madrugada
  de 24&amp;hellip\;
CATEGORIES:Geral
URL;VALUE=URI:https://www.energis8brasil.com/mc-events/vespera-de-natal/?mc
 _id=34
END:VEVENT
END:VCALENDAR